Package: Rsamtools Version: 2.24.1 Command: /Library/Frameworks/R.framework/Resources/bin/R CMD check --install=check:Rsamtools.install-out.txt --library=/Library/Frameworks/R.framework/Resources/library --no-vignettes --timings Rsamtools_2.24.1.tar.gz StartedAt: 2025-10-15 10:31:30 -0400 (Wed, 15 Oct 2025) EndedAt: 2025-10-15 10:34:34 -0400 (Wed, 15 Oct 2025) EllapsedTime: 183.8 seconds RetCode: 0 Status: WARNINGS CheckDir: Rsamtools.Rcheck Warnings: 2