Package: Rqc Version: 1.44.0 Command: /home/biocbuild/bbs-3.22-bioc/R/bin/R CMD INSTALL Rqc StartedAt: 2025-11-05 16:03:28 -0500 (Wed, 05 Nov 2025) EndedAt: 2025-11-05 16:04:24 -0500 (Wed, 05 Nov 2025) EllapsedTime: 56.0 seconds RetCode: 0 Status: OK