Package: Rqc Version: 1.44.0 Command: /home/biocbuild/bbs-3.22-bioc/R/bin/R CMD build --keep-empty-dirs --no-resave-data --md5 Rqc StartedAt: 2025-11-05 19:52:55 -0500 (Wed, 05 Nov 2025) EndedAt: 2025-11-05 19:54:22 -0500 (Wed, 05 Nov 2025) EllapsedTime: 87.1 seconds RetCode: 0 Status: OK PackageFile: Rqc_1.44.0.tar.gz PackageFileSize: 1.334 MiB