Package: Rnits Version: 1.44.0 Command: /home/biocbuild/bbs-3.22-bioc/R/bin/R CMD INSTALL Rnits StartedAt: 2025-11-20 16:03:33 -0500 (Thu, 20 Nov 2025) EndedAt: 2025-11-20 16:03:42 -0500 (Thu, 20 Nov 2025) EllapsedTime: 8.8 seconds RetCode: 0 Status: OK