Package: Rnits Version: 1.42.0 Command: /Library/Frameworks/R.framework/Resources/bin/R CMD check --install=check:Rnits.install-out.txt --library=/Library/Frameworks/R.framework/Resources/library --no-vignettes --timings Rnits_1.42.0.tar.gz StartedAt: 2025-10-14 09:24:24 -0400 (Tue, 14 Oct 2025) EndedAt: 2025-10-14 09:26:57 -0400 (Tue, 14 Oct 2025) EllapsedTime: 153.7 seconds RetCode: 0 Status: WARNINGS CheckDir: Rnits.Rcheck Warnings: 1