Package: Rnits Version: 1.42.0 Command: /Library/Frameworks/R.framework/Resources/bin/R CMD build --keep-empty-dirs --no-resave-data Rnits StartedAt: 2025-10-13 22:06:37 -0400 (Mon, 13 Oct 2025) EndedAt: 2025-10-13 22:09:38 -0400 (Mon, 13 Oct 2025) EllapsedTime: 180.8 seconds RetCode: 0 Status: OK PackageFile: Rnits_1.42.0.tar.gz PackageFileSize: 654 KiB