Package: Rnits Version: 1.42.0 Command: rm -rf Rnits.buildbin-libdir && mkdir Rnits.buildbin-libdir && /Users/biocbuild/BBS/utils/build-universal.sh Rnits_1.42.0.tar.gz /Library/Frameworks/R.framework/Resources/bin/R Rnits.buildbin-libdir StartedAt: 2025-04-22 01:05:06 -0400 (Tue, 22 Apr 2025) EndedAt: 2025-04-22 01:05:21 -0400 (Tue, 22 Apr 2025) EllapsedTime: 16.0 seconds RetCode: 0 Status: OK PackageFile: Rnits_1.42.0.tgz PackageFileSize: 963.6 KiB