Package: Rnits Version: 1.42.0 Command: /home/biocbuild/R/R/bin/R CMD build --keep-empty-dirs --no-resave-data Rnits StartedAt: 2025-10-14 04:09:01 -0000 (Tue, 14 Oct 2025) EndedAt: 2025-10-14 04:11:11 -0000 (Tue, 14 Oct 2025) EllapsedTime: 130.1 seconds RetCode: 0 Status: OK PackageFile: Rnits_1.42.0.tar.gz PackageFileSize: 641.7 KiB