Package: Rnits Version: 1.42.0 Command: rm -rf Rnits.buildbin-libdir && mkdir Rnits.buildbin-libdir && /Users/biocbuild/BBS/utils/build-universal.sh Rnits_1.42.0.tar.gz /Library/Frameworks/R.framework/Resources/bin/R Rnits.buildbin-libdir StartedAt: 2025-04-21 22:49:46 -0400 (Mon, 21 Apr 2025) EndedAt: 2025-04-21 22:49:51 -0400 (Mon, 21 Apr 2025) EllapsedTime: 4.1 seconds RetCode: 0 Status: OK PackageFile: Rnits_1.42.0.tgz PackageFileSize: 964.3 KiB