Package: RnBeads Version: 2.26.0 Command: rm -rf RnBeads.buildbin-libdir && mkdir RnBeads.buildbin-libdir && /Users/biocbuild/BBS/utils/build-universal.sh RnBeads_2.26.0.tar.gz /Library/Frameworks/R.framework/Resources/bin/R RnBeads.buildbin-libdir StartedAt: 2025-04-22 01:05:04 -0400 (Tue, 22 Apr 2025) EndedAt: 2025-04-22 01:06:58 -0400 (Tue, 22 Apr 2025) EllapsedTime: 113.9 seconds RetCode: 0 Status: OK PackageFile: RnBeads_2.26.0.tgz PackageFileSize: 7.919 MiB