Package: RnBeads Version: 2.26.0 Command: /Library/Frameworks/R.framework/Resources/bin/R CMD INSTALL RnBeads StartedAt: 2025-04-21 15:31:42 -0400 (Mon, 21 Apr 2025) EndedAt: 2025-04-21 15:32:14 -0400 (Mon, 21 Apr 2025) EllapsedTime: 32.2 seconds RetCode: 0 Status: OK