Package: RnBeads Version: 2.26.0 Command: /Library/Frameworks/R.framework/Resources/bin/R CMD check --install=check:RnBeads.install-out.txt --library=/Library/Frameworks/R.framework/Resources/library --no-vignettes --timings RnBeads_2.26.0.tar.gz StartedAt: 2025-04-21 21:18:47 -0400 (Mon, 21 Apr 2025) EndedAt: 2025-04-21 21:25:17 -0400 (Mon, 21 Apr 2025) EllapsedTime: 390.7 seconds RetCode: 0 Status: OK CheckDir: RnBeads.Rcheck Warnings: 0