Package: RnBeads Version: 2.26.0 Command: rm -rf RnBeads.buildbin-libdir && mkdir RnBeads.buildbin-libdir && /Users/biocbuild/BBS/utils/build-universal.sh RnBeads_2.26.0.tar.gz /Library/Frameworks/R.framework/Resources/bin/R RnBeads.buildbin-libdir StartedAt: 2025-04-21 22:49:45 -0400 (Mon, 21 Apr 2025) EndedAt: 2025-04-21 22:50:20 -0400 (Mon, 21 Apr 2025) EllapsedTime: 34.7 seconds RetCode: 0 Status: OK PackageFile: RnBeads_2.26.0.tgz PackageFileSize: 7.93 MiB