Package: RnBeads Version: 2.26.0 Command: /Library/Frameworks/R.framework/Resources/bin/R CMD build --keep-empty-dirs --no-resave-data RnBeads StartedAt: 2025-10-14 08:04:50 -0400 (Tue, 14 Oct 2025) EndedAt: 2025-10-14 08:07:57 -0400 (Tue, 14 Oct 2025) EllapsedTime: 186.2 seconds RetCode: 0 Status: OK PackageFile: RnBeads_2.26.0.tar.gz PackageFileSize: 7.565 MiB