Package: RnBeads Version: 2.26.0 Command: rm -rf RnBeads.buildbin-libdir && mkdir RnBeads.buildbin-libdir && /Users/biocbuild/BBS/utils/build-universal.sh RnBeads_2.26.0.tar.gz /Library/Frameworks/R.framework/Resources/bin/R RnBeads.buildbin-libdir StartedAt: 2025-10-15 20:13:21 -0400 (Wed, 15 Oct 2025) EndedAt: 2025-10-15 20:15:04 -0400 (Wed, 15 Oct 2025) EllapsedTime: 102.6 seconds RetCode: 0 Status: OK PackageFile: RnBeads_2.26.0.tgz PackageFileSize: 7.953 MiB