Package: Rmagpie Version: 1.66.0 Command: /home/biocbuild/bbs-3.22-bioc/R/bin/R CMD INSTALL Rmagpie StartedAt: 2025-11-06 15:12:09 -0500 (Thu, 06 Nov 2025) EndedAt: 2025-11-06 15:12:23 -0500 (Thu, 06 Nov 2025) EllapsedTime: 13.8 seconds RetCode: 0 Status: OK