Package: Rmagpie Version: 1.66.0 Command: /home/biocbuild/bbs-3.22-bioc/R/bin/R CMD build --keep-empty-dirs --no-resave-data --md5 Rmagpie StartedAt: 2025-11-06 19:39:50 -0500 (Thu, 06 Nov 2025) EndedAt: 2025-11-06 19:40:21 -0500 (Thu, 06 Nov 2025) EllapsedTime: 31.0 seconds RetCode: 0 Status: OK PackageFile: Rmagpie_1.66.0.tar.gz PackageFileSize: 483.5 KiB