Package: Rmagpie Version: 1.66.0 Command: /Library/Frameworks/R.framework/Resources/bin/R CMD build --keep-empty-dirs --no-resave-data Rmagpie StartedAt: 2025-11-02 17:31:51 -0500 (Sun, 02 Nov 2025) EndedAt: 2025-11-02 17:32:07 -0500 (Sun, 02 Nov 2025) EllapsedTime: 16.2 seconds RetCode: 0 Status: OK PackageFile: Rmagpie_1.66.0.tar.gz PackageFileSize: 464.9 KiB