Package: RiboProfiling Version: 1.39.1 Command: rm -rf RiboProfiling.buildbin-libdir && mkdir RiboProfiling.buildbin-libdir && F:\biocbuild\bbs-3.22-bioc\R\bin\R.exe CMD INSTALL --build --library=RiboProfiling.buildbin-libdir RiboProfiling_1.39.1.tar.gz StartedAt: 2025-08-15 11:08:12 -0400 (Fri, 15 Aug 2025) EndedAt: 2025-08-15 11:09:31 -0400 (Fri, 15 Aug 2025) EllapsedTime: 79.6 seconds RetCode: 0 Status: OK PackageFile: RiboProfiling_1.39.1.zip PackageFileSize: 4.516 MiB