Package: RiboProfiling Version: 1.40.0 Command: /home/biocbuild/bbs-3.22-bioc/R/bin/R CMD INSTALL RiboProfiling StartedAt: 2025-11-20 16:42:10 -0500 (Thu, 20 Nov 2025) EndedAt: 2025-11-20 16:42:59 -0500 (Thu, 20 Nov 2025) EllapsedTime: 49.2 seconds RetCode: 0 Status: OK