Package: RiboDiPA Version: 1.18.0 Command: /home/biocbuild/R/R/bin/R CMD INSTALL RiboDiPA StartedAt: 2025-11-20 22:30:51 -0000 (Thu, 20 Nov 2025) EndedAt: 2025-11-20 22:32:02 -0000 (Thu, 20 Nov 2025) EllapsedTime: 70.6 seconds RetCode: 0 Status: OK