Package: RiboDiPA Version: 1.18.0 Command: /home/biocbuild/R/R/bin/R CMD check --install=check:RiboDiPA.install-out.txt --library=/home/biocbuild/R/R/site-library --no-vignettes --timings RiboDiPA_1.18.0.tar.gz StartedAt: 2025-11-21 14:55:34 -0000 (Fri, 21 Nov 2025) EndedAt: 2025-11-21 15:12:58 -0000 (Fri, 21 Nov 2025) EllapsedTime: 1043.4 seconds RetCode: 0 Status: OK CheckDir: RiboDiPA.Rcheck Warnings: 0