Package: RiboDiPA Version: 1.18.0 Command: /home/biocbuild/bbs-3.22-bioc/R/bin/R CMD INSTALL RiboDiPA StartedAt: 2025-11-10 15:46:08 -0500 (Mon, 10 Nov 2025) EndedAt: 2025-11-10 15:47:05 -0500 (Mon, 10 Nov 2025) EllapsedTime: 56.5 seconds RetCode: 0 Status: OK