Package: RiboDiPA Version: 1.18.0 Command: /home/biocbuild/bbs-3.22-bioc/R/bin/R CMD check --install=check:RiboDiPA.install-out.txt --library=/home/biocbuild/bbs-3.22-bioc/R/site-library --timings RiboDiPA_1.18.0.tar.gz StartedAt: 2025-11-10 03:31:18 -0500 (Mon, 10 Nov 2025) EndedAt: 2025-11-10 03:49:17 -0500 (Mon, 10 Nov 2025) EllapsedTime: 1079.2 seconds RetCode: 0 Status: OK CheckDir: RiboDiPA.Rcheck Warnings: 0