Package: RiboCrypt Version: 1.16.0 Command: /Library/Frameworks/R.framework/Resources/bin/R CMD INSTALL RiboCrypt StartedAt: 2025-10-31 15:25:37 -0400 (Fri, 31 Oct 2025) EndedAt: 2025-10-31 15:25:57 -0400 (Fri, 31 Oct 2025) EllapsedTime: 20.3 seconds RetCode: 0 Status: OK