Package: RiboCrypt Version: 1.16.0 Command: /Library/Frameworks/R.framework/Resources/bin/R CMD check --install=check:RiboCrypt.install-out.txt --library=/Library/Frameworks/R.framework/Resources/library --no-vignettes --timings RiboCrypt_1.16.0.tar.gz StartedAt: 2025-10-31 21:43:30 -0400 (Fri, 31 Oct 2025) EndedAt: 2025-10-31 21:45:42 -0400 (Fri, 31 Oct 2025) EllapsedTime: 132.7 seconds RetCode: 0 Status: OK CheckDir: RiboCrypt.Rcheck Warnings: 0