Package: RiboCrypt Version: 1.14.1 Command: /Library/Frameworks/R.framework/Resources/bin/R CMD INSTALL RiboCrypt StartedAt: 2025-10-09 17:25:31 -0400 (Thu, 09 Oct 2025) EndedAt: 2025-10-09 17:26:34 -0400 (Thu, 09 Oct 2025) EllapsedTime: 63.2 seconds RetCode: 0 Status: OK