Package: RiboCrypt Version: 1.14.1 Command: /Library/Frameworks/R.framework/Resources/bin/R CMD build --keep-empty-dirs --no-resave-data RiboCrypt StartedAt: 2025-10-10 08:07:38 -0400 (Fri, 10 Oct 2025) EndedAt: 2025-10-10 08:09:33 -0400 (Fri, 10 Oct 2025) EllapsedTime: 114.7 seconds RetCode: 0 Status: OK PackageFile: RiboCrypt_1.14.1.tar.gz PackageFileSize: 12.24 MiB