Package: Rhisat2 Version: 1.24.0 Command: /home/biocbuild/R/R/bin/R CMD INSTALL Rhisat2 StartedAt: 2025-10-09 20:59:29 -0000 (Thu, 09 Oct 2025) EndedAt: 2025-10-09 21:04:54 -0000 (Thu, 09 Oct 2025) EllapsedTime: 325.8 seconds RetCode: 0 Status: OK