Package: Rhisat2 Version: 1.24.0 Command: /home/biocbuild/R/R/bin/R CMD build --keep-empty-dirs --no-resave-data Rhisat2 StartedAt: 2025-10-10 03:56:59 -0000 (Fri, 10 Oct 2025) EndedAt: 2025-10-10 04:02:26 -0000 (Fri, 10 Oct 2025) EllapsedTime: 327.1 seconds RetCode: 0 Status: OK PackageFile: Rhisat2_1.24.0.tar.gz PackageFileSize: 6.774 MiB