Package: ResidualMatrix Version: 1.19.0 Command: /home/biocbuild/R/R/bin/R CMD INSTALL ResidualMatrix StartedAt: 2025-10-23 20:35:14 -0000 (Thu, 23 Oct 2025) EndedAt: 2025-10-23 20:35:38 -0000 (Thu, 23 Oct 2025) EllapsedTime: 24.4 seconds RetCode: 0 Status: OK