Package: ResidualMatrix Version: 1.19.0 Command: /home/biocbuild/R/R/bin/R CMD check --install=check:ResidualMatrix.install-out.txt --library=/home/biocbuild/R/R/site-library --no-vignettes --timings ResidualMatrix_1.19.0.tar.gz StartedAt: 2025-10-17 12:44:02 -0000 (Fri, 17 Oct 2025) EndedAt: 2025-10-17 12:48:23 -0000 (Fri, 17 Oct 2025) EllapsedTime: 261.3 seconds RetCode: 0 Status: OK CheckDir: ResidualMatrix.Rcheck Warnings: 0