Package: ResidualMatrix Version: 1.19.0 Command: /home/biocbuild/R/R/bin/R CMD build --keep-empty-dirs --no-resave-data ResidualMatrix StartedAt: 2025-10-21 02:25:17 -0000 (Tue, 21 Oct 2025) EndedAt: 2025-10-21 02:26:15 -0000 (Tue, 21 Oct 2025) EllapsedTime: 58.0 seconds RetCode: 0 Status: OK PackageFile: ResidualMatrix_1.19.0.tar.gz PackageFileSize: 398.1 KiB