Package: Repitools Version: 1.55.2 Command: /home/biocbuild/R/R/bin/R CMD check --install=check:Repitools.install-out.txt --library=/home/biocbuild/R/R/site-library --no-vignettes --timings Repitools_1.55.2.tar.gz StartedAt: 2025-10-17 12:43:42 -0000 (Fri, 17 Oct 2025) EndedAt: 2025-10-17 12:43:46 -0000 (Fri, 17 Oct 2025) EllapsedTime: 4.0 seconds RetCode: 1 Status: ERROR CheckDir: Repitools.Rcheck Warnings: NA