Package: RepViz Version: 1.24.0 Command: /home/biocbuild/R/R/bin/R CMD INSTALL RepViz StartedAt: 2025-09-18 20:40:31 -0000 (Thu, 18 Sep 2025) EndedAt: 2025-09-18 20:40:55 -0000 (Thu, 18 Sep 2025) EllapsedTime: 23.5 seconds RetCode: 0 Status: OK