Package: RegEnrich Version: 1.18.1 Command: /home/biocbuild/bbs-3.21-bioc/R/bin/R CMD build --keep-empty-dirs --no-resave-data RegEnrich StartedAt: 2025-10-15 19:25:17 -0400 (Wed, 15 Oct 2025) EndedAt: 2025-10-15 19:29:49 -0400 (Wed, 15 Oct 2025) EllapsedTime: 272.3 seconds RetCode: 0 Status: OK PackageFile: RegEnrich_1.18.1.tar.gz PackageFileSize: 1.136 MiB