Package: RedisParam Version: 1.12.0 Command: /home/biocbuild/bbs-3.22-bioc/R/bin/R CMD check --install=check:RedisParam.install-out.txt --library=/home/biocbuild/bbs-3.22-bioc/R/site-library --timings RedisParam_1.12.0.tar.gz StartedAt: 2025-11-10 03:24:04 -0500 (Mon, 10 Nov 2025) EndedAt: 2025-11-10 03:24:31 -0500 (Mon, 10 Nov 2025) EllapsedTime: 27.0 seconds RetCode: 0 Status: OK CheckDir: RedisParam.Rcheck Warnings: 0