Package: RedeR Version: 3.6.0 Command: /home/biocbuild/bbs-3.22-bioc/R/bin/R CMD INSTALL RedeR StartedAt: 2025-11-17 16:55:53 -0500 (Mon, 17 Nov 2025) EndedAt: 2025-11-17 16:55:59 -0500 (Mon, 17 Nov 2025) EllapsedTime: 5.5 seconds RetCode: 0 Status: OK