Package: ReUseData Version: 1.10.0 Command: /Library/Frameworks/R.framework/Resources/bin/R CMD INSTALL ReUseData StartedAt: 2025-11-03 15:20:02 -0500 (Mon, 03 Nov 2025) EndedAt: 2025-11-03 15:20:34 -0500 (Mon, 03 Nov 2025) EllapsedTime: 31.4 seconds RetCode: 0 Status: OK