Package: ReUseData Version: 1.9.0 Command: /Library/Frameworks/R.framework/Resources/bin/R CMD check --install=check:ReUseData.install-out.txt --library=/Library/Frameworks/R.framework/Resources/library --no-vignettes --timings ReUseData_1.9.0.tar.gz StartedAt: 2025-10-28 23:38:37 -0400 (Tue, 28 Oct 2025) EndedAt: 2025-10-28 23:41:02 -0400 (Tue, 28 Oct 2025) EllapsedTime: 144.4 seconds RetCode: 0 Status: OK CheckDir: ReUseData.Rcheck Warnings: 0