Package: ReUseData Version: 1.10.0 Command: /Library/Frameworks/R.framework/Resources/bin/R CMD build --keep-empty-dirs --no-resave-data ReUseData StartedAt: 2025-11-03 18:27:01 -0500 (Mon, 03 Nov 2025) EndedAt: 2025-11-03 18:44:41 -0500 (Mon, 03 Nov 2025) EllapsedTime: 1060.2 seconds RetCode: 1 Status: ERROR PackageFile: None PackageFileSize: NA