Package: Rdisop Version: 1.70.0 Command: /home/biocbuild/bbs-3.22-bioc/R/bin/R CMD INSTALL Rdisop StartedAt: 2025-11-06 15:01:57 -0500 (Thu, 06 Nov 2025) EndedAt: 2025-11-06 15:02:39 -0500 (Thu, 06 Nov 2025) EllapsedTime: 42.0 seconds RetCode: 0 Status: OK