Package: Rdisop Version: 1.70.0 Command: /home/biocbuild/bbs-3.22-bioc/R/bin/R CMD check --install=check:Rdisop.install-out.txt --library=/home/biocbuild/bbs-3.22-bioc/R/site-library --timings Rdisop_1.70.0.tar.gz StartedAt: 2025-11-07 03:06:31 -0500 (Fri, 07 Nov 2025) EndedAt: 2025-11-07 03:06:55 -0500 (Fri, 07 Nov 2025) EllapsedTime: 24.0 seconds RetCode: 0 Status: OK CheckDir: Rdisop.Rcheck Warnings: 0