Package: RcwlPipelines Version: 1.24.0 Command: /home/biocbuild/bbs-3.21-bioc/R/bin/R CMD check --install=check:RcwlPipelines.install-out.txt --library=/home/biocbuild/bbs-3.21-bioc/R/site-library --timings RcwlPipelines_1.24.0.tar.gz StartedAt: 2025-10-16 02:41:24 -0400 (Thu, 16 Oct 2025) EndedAt: 2025-10-16 02:43:29 -0400 (Thu, 16 Oct 2025) EllapsedTime: 125.4 seconds RetCode: 0 Status: OK CheckDir: RcwlPipelines.Rcheck Warnings: 0