Package: Rcwl Version: 1.24.0 Command: /Library/Frameworks/R.framework/Resources/bin/R CMD INSTALL Rcwl StartedAt: 2025-04-21 15:12:34 -0400 (Mon, 21 Apr 2025) EndedAt: 2025-04-21 15:12:55 -0400 (Mon, 21 Apr 2025) EllapsedTime: 21.0 seconds RetCode: 0 Status: OK