Package: Rcpi Version: 1.46.0 Command: /home/biocbuild/bbs-3.22-bioc/R/bin/R CMD check --install=check:Rcpi.install-out.txt --library=/home/biocbuild/bbs-3.22-bioc/R/site-library --timings Rcpi_1.46.0.tar.gz StartedAt: 2025-11-07 03:05:52 -0500 (Fri, 07 Nov 2025) EndedAt: 2025-11-07 03:07:44 -0500 (Fri, 07 Nov 2025) EllapsedTime: 112.1 seconds RetCode: 0 Status: OK CheckDir: Rcpi.Rcheck Warnings: 0