Package: Rcollectl Version: 1.10.0 Command: /home/biocbuild/R/R/bin/R CMD INSTALL Rcollectl StartedAt: 2025-11-20 21:56:38 -0000 (Thu, 20 Nov 2025) EndedAt: 2025-11-20 21:57:13 -0000 (Thu, 20 Nov 2025) EllapsedTime: 34.8 seconds RetCode: 0 Status: OK