Package: Rbec Version: 1.16.0 Command: /home/biocbuild/R/R/bin/R CMD INSTALL Rbec StartedAt: 2025-09-25 21:11:02 -0000 (Thu, 25 Sep 2025) EndedAt: 2025-09-25 21:11:12 -0000 (Thu, 25 Sep 2025) EllapsedTime: 10.0 seconds RetCode: 1 Status: ERROR