Package: Rbec Version: 1.16.0 Command: /home/biocbuild/R/R/bin/R CMD build --keep-empty-dirs --no-resave-data Rbec StartedAt: 2025-09-26 05:08:23 -0000 (Fri, 26 Sep 2025) EndedAt: 2025-09-26 05:08:33 -0000 (Fri, 26 Sep 2025) EllapsedTime: 10.0 seconds RetCode: 1 Status: ERROR PackageFile: None PackageFileSize: NA