Package: Rbec Version: 1.16.0 Command: /Library/Frameworks/R.framework/Resources/bin/R CMD INSTALL Rbec StartedAt: 2025-10-13 17:59:56 -0400 (Mon, 13 Oct 2025) EndedAt: 2025-10-13 18:00:04 -0400 (Mon, 13 Oct 2025) EllapsedTime: 8.1 seconds RetCode: 1 Status: ERROR